Package: Biostrings Version: 2.76.0 Command: chmod a+r Biostrings -R && E:\biocbuild\bbs-3.21-bioc\R\bin\R.exe CMD build --keep-empty-dirs --no-resave-data Biostrings StartedAt: 2025-08-14 17:42:51 -0400 (Thu, 14 Aug 2025) EndedAt: 2025-08-14 17:45:59 -0400 (Thu, 14 Aug 2025) EllapsedTime: 187.9 seconds RetCode: 0 Status: OK PackageFile: Biostrings_2.76.0.tar.gz PackageFileSize: 11.85 MiB