Package: Biostrings Version: 2.76.0 Command: /home/biocbuild/bbs-3.21-bioc/R/bin/R CMD check --install=check:Biostrings.install-out.txt --library=/home/biocbuild/bbs-3.21-bioc/R/site-library --timings Biostrings_2.76.0.tar.gz StartedAt: 2025-10-15 21:14:26 -0400 (Wed, 15 Oct 2025) EndedAt: 2025-10-15 21:23:28 -0400 (Wed, 15 Oct 2025) EllapsedTime: 542.7 seconds RetCode: 0 Status: WARNINGS CheckDir: Biostrings.Rcheck Warnings: 1