Package: Biostrings Version: 2.76.0 Command: /Library/Frameworks/R.framework/Resources/bin/R CMD INSTALL Biostrings StartedAt: 2025-10-13 15:41:20 -0400 (Mon, 13 Oct 2025) EndedAt: 2025-10-13 15:41:53 -0400 (Mon, 13 Oct 2025) EllapsedTime: 32.4 seconds RetCode: 0 Status: OK