Package: Biostrings Version: 2.76.0 Command: /Library/Frameworks/R.framework/Resources/bin/R CMD check --install=check:Biostrings.install-out.txt --library=/Library/Frameworks/R.framework/Resources/library --no-vignettes --timings Biostrings_2.76.0.tar.gz StartedAt: 2025-10-14 14:26:36 -0400 (Tue, 14 Oct 2025) EndedAt: 2025-10-14 14:39:32 -0400 (Tue, 14 Oct 2025) EllapsedTime: 775.3 seconds RetCode: 0 Status: WARNINGS CheckDir: Biostrings.Rcheck Warnings: 1