Package: Biostrings Version: 2.76.0 Command: /Library/Frameworks/R.framework/Resources/bin/R CMD build --keep-empty-dirs --no-resave-data Biostrings StartedAt: 2025-10-13 20:09:08 -0400 (Mon, 13 Oct 2025) EndedAt: 2025-10-13 20:10:20 -0400 (Mon, 13 Oct 2025) EllapsedTime: 72.1 seconds RetCode: 0 Status: OK PackageFile: Biostrings_2.76.0.tar.gz PackageFileSize: 12.23 MiB