Package: BiocWorkflowTools Version: 1.35.0 Command: /home/biocbuild/R/R/bin/R CMD INSTALL BiocWorkflowTools StartedAt: 2025-10-23 20:29:53 -0000 (Thu, 23 Oct 2025) EndedAt: 2025-10-23 20:30:12 -0000 (Thu, 23 Oct 2025) EllapsedTime: 19.8 seconds RetCode: 0 Status: OK