Package: BiocWorkflowTools Version: 1.35.0 Command: /home/biocbuild/R/R/bin/R CMD check --install=check:BiocWorkflowTools.install-out.txt --library=/home/biocbuild/R/R/site-library --no-vignettes --timings BiocWorkflowTools_1.35.0.tar.gz StartedAt: 2025-10-21 04:59:18 -0000 (Tue, 21 Oct 2025) EndedAt: 2025-10-21 06:02:20 -0000 (Tue, 21 Oct 2025) EllapsedTime: 3782.2 seconds RetCode: None Status: TIMEOUT CheckDir: BiocWorkflowTools.Rcheck Warnings: NA