Package: BiocStyle Version: 2.37.1 Command: /home/biocbuild/R/R/bin/R CMD check --install=check:BiocStyle.install-out.txt --library=/home/biocbuild/R/R/site-library --no-vignettes --timings BiocStyle_2.37.1.tar.gz StartedAt: 2025-10-21 04:58:19 -0000 (Tue, 21 Oct 2025) EndedAt: 2025-10-21 04:59:14 -0000 (Tue, 21 Oct 2025) EllapsedTime: 55.0 seconds RetCode: 0 Status: OK CheckDir: BiocStyle.Rcheck Warnings: 0