Package: BiocStyle Version: 2.37.1 Command: F:\biocbuild\bbs-3.22-bioc\R\bin\R.exe CMD check --no-multiarch --install=check:BiocStyle.install-out.txt --library=F:\biocbuild\bbs-3.22-bioc\R\library --no-vignettes --timings BiocStyle_2.37.1.tar.gz StartedAt: 2025-08-15 00:58:03 -0400 (Fri, 15 Aug 2025) EndedAt: 2025-08-15 01:01:15 -0400 (Fri, 15 Aug 2025) EllapsedTime: 192.3 seconds RetCode: 0 Status: OK CheckDir: BiocStyle.Rcheck Warnings: 0