Package: BiocStyle Version: 2.37.1 Command: chmod a+r BiocStyle -R && F:\biocbuild\bbs-3.22-bioc\R\bin\R.exe CMD build --keep-empty-dirs --no-resave-data BiocStyle StartedAt: 2025-08-14 18:45:12 -0400 (Thu, 14 Aug 2025) EndedAt: 2025-08-14 18:45:44 -0400 (Thu, 14 Aug 2025) EllapsedTime: 31.9 seconds RetCode: 0 Status: OK PackageFile: BiocStyle_2.37.1.tar.gz PackageFileSize: 708.8 KiB