Package: BiocStyle Version: 2.38.0 Command: /home/biocbuild/bbs-3.22-bioc/R/bin/R CMD check --install=check:BiocStyle.install-out.txt --library=/home/biocbuild/bbs-3.22-bioc/R/site-library --timings BiocStyle_2.38.0.tar.gz StartedAt: 2025-11-11 21:38:31 -0500 (Tue, 11 Nov 2025) EndedAt: 2025-11-11 21:39:18 -0500 (Tue, 11 Nov 2025) EllapsedTime: 47.0 seconds RetCode: 0 Status: OK CheckDir: BiocStyle.Rcheck Warnings: 0