Package: BiocStyle Version: 2.38.0 Command: /Library/Frameworks/R.framework/Resources/bin/R CMD INSTALL BiocStyle StartedAt: 2025-11-10 15:04:03 -0500 (Mon, 10 Nov 2025) EndedAt: 2025-11-10 15:04:23 -0500 (Mon, 10 Nov 2025) EllapsedTime: 20.1 seconds RetCode: 0 Status: OK