Package: BiocStyle Version: 2.38.0 Command: /Library/Frameworks/R.framework/Resources/bin/R CMD check --install=check:BiocStyle.install-out.txt --library=/Library/Frameworks/R.framework/Resources/library --no-vignettes --timings BiocStyle_2.38.0.tar.gz StartedAt: 2025-11-10 18:58:29 -0500 (Mon, 10 Nov 2025) EndedAt: 2025-11-10 18:58:56 -0500 (Mon, 10 Nov 2025) EllapsedTime: 27.4 seconds RetCode: 0 Status: OK CheckDir: BiocStyle.Rcheck Warnings: 0