Package: BiocStyle Version: 2.38.0 Command: /Library/Frameworks/R.framework/Resources/bin/R CMD build --keep-empty-dirs --no-resave-data BiocStyle StartedAt: 2025-11-10 15:46:00 -0500 (Mon, 10 Nov 2025) EndedAt: 2025-11-10 15:46:07 -0500 (Mon, 10 Nov 2025) EllapsedTime: 7.1 seconds RetCode: 0 Status: OK PackageFile: BiocStyle_2.38.0.tar.gz PackageFileSize: 777.5 KiB