Package: BiocStyle Version: 2.38.0 Command: rm -rf BiocStyle.buildbin-libdir && mkdir BiocStyle.buildbin-libdir && /Users/biocbuild/BBS/utils/build-universal.sh BiocStyle_2.38.0.tar.gz /Library/Frameworks/R.framework/Resources/bin/R BiocStyle.buildbin-libdir StartedAt: 2025-11-10 23:12:46 -0500 (Mon, 10 Nov 2025) EndedAt: 2025-11-10 23:12:48 -0500 (Mon, 10 Nov 2025) EllapsedTime: 2.0 seconds RetCode: 0 Status: OK PackageFile: BiocStyle_2.38.0.tgz PackageFileSize: 839.2 KiB