Package: BiocSklearn Version: 1.31.0 Command: /home/biocbuild/R/R/bin/R CMD INSTALL BiocSklearn StartedAt: 2025-10-23 20:37:33 -0000 (Thu, 23 Oct 2025) EndedAt: 2025-10-23 20:38:03 -0000 (Thu, 23 Oct 2025) EllapsedTime: 30.1 seconds RetCode: 0 Status: OK