Package: BiocSingular Version: 1.26.1 Command: /home/biocbuild/bbs-3.22-bioc/R/bin/R CMD build --keep-empty-dirs --no-resave-data --md5 BiocSingular StartedAt: 2025-11-25 16:56:53 -0500 (Tue, 25 Nov 2025) EndedAt: 2025-11-25 16:57:32 -0500 (Tue, 25 Nov 2025) EllapsedTime: 39.0 seconds RetCode: 0 Status: OK PackageFile: BiocSingular_1.26.1.tar.gz PackageFileSize: 603.8 KiB