Package: BiocSingular Version: 1.24.0 Command: /home/biocbuild/bbs-3.21-bioc/R/bin/R CMD check --install=check:BiocSingular.install-out.txt --library=/home/biocbuild/bbs-3.21-bioc/R/site-library --timings BiocSingular_1.24.0.tar.gz StartedAt: 2025-10-15 21:11:59 -0400 (Wed, 15 Oct 2025) EndedAt: 2025-10-15 21:14:58 -0400 (Wed, 15 Oct 2025) EllapsedTime: 178.3 seconds RetCode: 0 Status: WARNINGS CheckDir: BiocSingular.Rcheck Warnings: 1