Package: BiocSingular Version: 1.24.0 Command: /home/biocbuild/R/R/bin/R CMD INSTALL BiocSingular StartedAt: 2025-10-13 21:12:21 -0000 (Mon, 13 Oct 2025) EndedAt: 2025-10-13 21:13:04 -0000 (Mon, 13 Oct 2025) EllapsedTime: 43.2 seconds RetCode: 0 Status: OK