Package: BiocSingular Version: 1.24.0 Command: /Library/Frameworks/R.framework/Resources/bin/R CMD check --install=check:BiocSingular.install-out.txt --library=/Library/Frameworks/R.framework/Resources/library --no-vignettes --timings BiocSingular_1.24.0.tar.gz StartedAt: 2025-04-21 18:22:07 -0400 (Mon, 21 Apr 2025) EndedAt: 2025-04-21 18:23:10 -0400 (Mon, 21 Apr 2025) EllapsedTime: 63.4 seconds RetCode: 0 Status: WARNINGS CheckDir: BiocSingular.Rcheck Warnings: 1