Package: BiocSingular Version: 1.24.0 Command: /Library/Frameworks/R.framework/Resources/bin/R CMD build --keep-empty-dirs --no-resave-data BiocSingular StartedAt: 2025-04-21 15:44:42 -0400 (Mon, 21 Apr 2025) EndedAt: 2025-04-21 15:44:58 -0400 (Mon, 21 Apr 2025) EllapsedTime: 16.1 seconds RetCode: 0 Status: OK PackageFile: BiocSingular_1.24.0.tar.gz PackageFileSize: 602.1 KiB