Package: BiocPkgTools Version: 1.26.4 Command: /Library/Frameworks/R.framework/Resources/bin/R CMD check --install=check:BiocPkgTools.install-out.txt --library=/Library/Frameworks/R.framework/Resources/library --no-vignettes --timings BiocPkgTools_1.26.4.tar.gz StartedAt: 2025-10-14 00:38:53 -0400 (Tue, 14 Oct 2025) EndedAt: 2025-10-14 00:57:46 -0400 (Tue, 14 Oct 2025) EllapsedTime: 1132.7 seconds RetCode: 0 Status: OK CheckDir: BiocPkgTools.Rcheck Warnings: 0