Package: BiocPkgTools Version: 1.26.4 Command: rm -rf BiocPkgTools.buildbin-libdir && mkdir BiocPkgTools.buildbin-libdir && /Users/biocbuild/BBS/utils/build-universal.sh BiocPkgTools_1.26.4.tar.gz /Library/Frameworks/R.framework/Resources/bin/R BiocPkgTools.buildbin-libdir StartedAt: 2025-10-14 12:55:07 -0400 (Tue, 14 Oct 2025) EndedAt: 2025-10-14 12:55:35 -0400 (Tue, 14 Oct 2025) EllapsedTime: 27.6 seconds RetCode: 0 Status: OK PackageFile: BiocPkgTools_1.26.4.tgz PackageFileSize: 1.141 MiB