Package: BiocParallel Version: 1.44.0 Command: /home/biocbuild/bbs-3.22-bioc/R/bin/R CMD INSTALL BiocParallel StartedAt: 2025-11-09 15:04:02 -0500 (Sun, 09 Nov 2025) EndedAt: 2025-11-09 15:04:16 -0500 (Sun, 09 Nov 2025) EllapsedTime: 14.3 seconds RetCode: 0 Status: OK