Package: BiocParallel Version: 1.44.0 Command: /home/biocbuild/bbs-3.22-bioc/R/bin/R CMD build --keep-empty-dirs --no-resave-data --md5 BiocParallel StartedAt: 2025-11-10 16:35:22 -0500 (Mon, 10 Nov 2025) EndedAt: 2025-11-10 16:36:50 -0500 (Mon, 10 Nov 2025) EllapsedTime: 88.2 seconds RetCode: 0 Status: OK PackageFile: BiocParallel_1.44.0.tar.gz PackageFileSize: 1.057 MiB