Package: BiocNeighbors Version: 2.3.1 Command: /home/biocbuild/R/R/bin/R CMD check --install=check:BiocNeighbors.install-out.txt --library=/home/biocbuild/R/R/site-library --no-vignettes --timings BiocNeighbors_2.3.1.tar.gz StartedAt: 2025-10-21 04:57:13 -0000 (Tue, 21 Oct 2025) EndedAt: 2025-10-21 04:57:51 -0000 (Tue, 21 Oct 2025) EllapsedTime: 38.0 seconds RetCode: 0 Status: OK CheckDir: BiocNeighbors.Rcheck Warnings: 0