Package: BiocNeighbors Version: 2.3.1 Command: F:\biocbuild\bbs-3.22-bioc\R\bin\R.exe CMD check --no-multiarch --install=check:BiocNeighbors.install-out.txt --library=F:\biocbuild\bbs-3.22-bioc\R\library --no-vignettes --timings BiocNeighbors_2.3.1.tar.gz StartedAt: 2025-08-15 00:56:59 -0400 (Fri, 15 Aug 2025) EndedAt: 2025-08-15 00:58:35 -0400 (Fri, 15 Aug 2025) EllapsedTime: 96.2 seconds RetCode: 0 Status: WARNINGS CheckDir: BiocNeighbors.Rcheck Warnings: 1