Package: BiocNeighbors Version: 2.3.1 Command: rm -rf BiocNeighbors.buildbin-libdir && mkdir BiocNeighbors.buildbin-libdir && F:\biocbuild\bbs-3.22-bioc\R\bin\R.exe CMD INSTALL --build --library=BiocNeighbors.buildbin-libdir BiocNeighbors_2.3.1.tar.gz StartedAt: 2025-08-15 09:49:29 -0400 (Fri, 15 Aug 2025) EndedAt: 2025-08-15 09:51:13 -0400 (Fri, 15 Aug 2025) EllapsedTime: 104.5 seconds RetCode: 0 Status: OK PackageFile: BiocNeighbors_2.3.1.zip PackageFileSize: 1.009 MiB