Package: BiocNeighbors Version: 2.4.0 Command: /home/biocbuild/bbs-3.22-bioc/R/bin/R CMD INSTALL BiocNeighbors StartedAt: 2025-11-06 15:01:57 -0500 (Thu, 06 Nov 2025) EndedAt: 2025-11-06 15:02:41 -0500 (Thu, 06 Nov 2025) EllapsedTime: 43.9 seconds RetCode: 0 Status: OK