Package: BiocNeighbors Version: 2.4.0 Command: /home/biocbuild/bbs-3.22-bioc/R/bin/R CMD check --install=check:BiocNeighbors.install-out.txt --library=/home/biocbuild/bbs-3.22-bioc/R/site-library --timings BiocNeighbors_2.4.0.tar.gz StartedAt: 2025-11-06 21:28:36 -0500 (Thu, 06 Nov 2025) EndedAt: 2025-11-06 21:29:11 -0500 (Thu, 06 Nov 2025) EllapsedTime: 35.0 seconds RetCode: 0 Status: OK CheckDir: BiocNeighbors.Rcheck Warnings: 0