Package: BiocNeighbors Version: 2.4.0 Command: /home/biocbuild/bbs-3.22-bioc/R/bin/R CMD build --keep-empty-dirs --no-resave-data --md5 BiocNeighbors StartedAt: 2025-11-06 16:30:43 -0500 (Thu, 06 Nov 2025) EndedAt: 2025-11-06 16:31:32 -0500 (Thu, 06 Nov 2025) EllapsedTime: 49.1 seconds RetCode: 0 Status: OK PackageFile: BiocNeighbors_2.4.0.tar.gz PackageFileSize: 331 KiB