Package: BiocHail Version: 1.10.0 Maintainer: Vincent Carey MaintainerEmail: stvjc at channing.harvard.edu git_url: https://git.bioconductor.org/packages/BiocHail git_branch: RELEASE_3_22 git_last_commit: dc7f0b8 git_last_commit_date: 2025-10-29 11:23:05 -0500 (Wed, 29 Oct 2025)