Package: BiocGenerics Version: 0.56.0 Command: /home/biocbuild/bbs-3.22-bioc/R/bin/R CMD INSTALL BiocGenerics StartedAt: 2025-11-20 16:02:02 -0500 (Thu, 20 Nov 2025) EndedAt: 2025-11-20 16:02:11 -0500 (Thu, 20 Nov 2025) EllapsedTime: 9.0 seconds RetCode: 0 Status: OK