Package: BiocGenerics Version: 0.54.0 Command: /Library/Frameworks/R.framework/Resources/bin/R CMD check --install=check:BiocGenerics.install-out.txt --library=/Library/Frameworks/R.framework/Resources/library --no-vignettes --timings BiocGenerics_0.54.0.tar.gz StartedAt: 2025-04-21 18:21:12 -0400 (Mon, 21 Apr 2025) EndedAt: 2025-04-21 18:21:39 -0400 (Mon, 21 Apr 2025) EllapsedTime: 27.3 seconds RetCode: 0 Status: WARNINGS CheckDir: BiocGenerics.Rcheck Warnings: 1