Package: BiocFileCache Version: 3.0.0 Command: /home/biocbuild/bbs-3.22-bioc/R/bin/R CMD INSTALL BiocFileCache StartedAt: 2025-11-06 15:08:35 -0500 (Thu, 06 Nov 2025) EndedAt: 2025-11-06 15:08:43 -0500 (Thu, 06 Nov 2025) EllapsedTime: 8.0 seconds RetCode: 0 Status: OK