Package: BiocFileCache Version: 3.0.0 Command: /home/biocbuild/bbs-3.22-bioc/R/bin/R CMD build --keep-empty-dirs --no-resave-data --md5 BiocFileCache StartedAt: 2025-11-09 16:33:12 -0500 (Sun, 09 Nov 2025) EndedAt: 2025-11-09 16:34:16 -0500 (Sun, 09 Nov 2025) EllapsedTime: 64.1 seconds RetCode: 0 Status: OK PackageFile: BiocFileCache_3.0.0.tar.gz PackageFileSize: 726.7 KiB