Package: BiocFileCache Version: 3.0.0 Command: /Library/Frameworks/R.framework/Resources/bin/R CMD INSTALL BiocFileCache StartedAt: 2025-11-03 15:15:52 -0500 (Mon, 03 Nov 2025) EndedAt: 2025-11-03 15:16:23 -0500 (Mon, 03 Nov 2025) EllapsedTime: 31.3 seconds RetCode: 0 Status: OK