Package: BiocFileCache Version: 3.0.0 Command: /Library/Frameworks/R.framework/Resources/bin/R CMD check --install=check:BiocFileCache.install-out.txt --library=/Library/Frameworks/R.framework/Resources/library --no-vignettes --timings BiocFileCache_3.0.0.tar.gz StartedAt: 2025-11-03 19:45:55 -0500 (Mon, 03 Nov 2025) EndedAt: 2025-11-03 19:48:20 -0500 (Mon, 03 Nov 2025) EllapsedTime: 144.6 seconds RetCode: 0 Status: OK CheckDir: BiocFileCache.Rcheck Warnings: 0