Package: BiocFileCache Version: 3.0.0 Command: /Library/Frameworks/R.framework/Resources/bin/R CMD build --keep-empty-dirs --no-resave-data BiocFileCache StartedAt: 2025-11-03 16:13:53 -0500 (Mon, 03 Nov 2025) EndedAt: 2025-11-03 16:17:15 -0500 (Mon, 03 Nov 2025) EllapsedTime: 202.7 seconds RetCode: 0 Status: OK PackageFile: BiocFileCache_3.0.0.tar.gz PackageFileSize: 725.4 KiB