Package: BiocFileCache Version: 3.0.0 Command: /Library/Frameworks/R.framework/Resources/bin/R CMD build --keep-empty-dirs --no-resave-data BiocFileCache StartedAt: 2025-11-06 15:45:46 -0500 (Thu, 06 Nov 2025) EndedAt: 2025-11-06 15:47:41 -0500 (Thu, 06 Nov 2025) EllapsedTime: 114.3 seconds RetCode: 0 Status: OK PackageFile: BiocFileCache_3.0.0.tar.gz PackageFileSize: 725.8 KiB