Package: BiocFHIR Version: 1.11.0 Command: /home/biocbuild/R/R/bin/R CMD build --keep-empty-dirs --no-resave-data BiocFHIR StartedAt: 2025-10-20 22:14:21 -0000 (Mon, 20 Oct 2025) EndedAt: 2025-10-20 22:15:06 -0000 (Mon, 20 Oct 2025) EllapsedTime: 45.0 seconds RetCode: 0 Status: OK PackageFile: BiocFHIR_1.11.0.tar.gz PackageFileSize: 4.597 MiB