Package: BiocFHIR Version: 1.11.0 Command: F:\biocbuild\bbs-3.22-bioc\R\bin\R.exe CMD check --no-multiarch --install=check:BiocFHIR.install-out.txt --library=F:\biocbuild\bbs-3.22-bioc\R\library --no-vignettes --timings BiocFHIR_1.11.0.tar.gz StartedAt: 2025-08-15 00:55:27 -0400 (Fri, 15 Aug 2025) EndedAt: 2025-08-15 00:57:12 -0400 (Fri, 15 Aug 2025) EllapsedTime: 105.3 seconds RetCode: 0 Status: OK CheckDir: BiocFHIR.Rcheck Warnings: 0