Package: BiocFHIR Version: 1.10.0 Command: /home/biocbuild/bbs-3.21-bioc/R/bin/R CMD INSTALL BiocFHIR StartedAt: 2025-10-01 15:15:55 -0400 (Wed, 01 Oct 2025) EndedAt: 2025-10-01 15:16:01 -0400 (Wed, 01 Oct 2025) EllapsedTime: 6.2 seconds RetCode: 0 Status: OK