Package: BiocFHIR Version: 1.10.0 Command: /home/biocbuild/R/R/bin/R CMD INSTALL BiocFHIR StartedAt: 2025-09-25 20:25:57 -0000 (Thu, 25 Sep 2025) EndedAt: 2025-09-25 20:26:05 -0000 (Thu, 25 Sep 2025) EllapsedTime: 8.0 seconds RetCode: 0 Status: OK