Package: BiocFHIR Version: 1.10.0 Command: /Library/Frameworks/R.framework/Resources/bin/R CMD check --install=check:BiocFHIR.install-out.txt --library=/Library/Frameworks/R.framework/Resources/library --no-vignettes --timings BiocFHIR_1.10.0.tar.gz StartedAt: 2025-04-21 18:20:22 -0400 (Mon, 21 Apr 2025) EndedAt: 2025-04-21 18:21:12 -0400 (Mon, 21 Apr 2025) EllapsedTime: 50.4 seconds RetCode: 0 Status: OK CheckDir: BiocFHIR.Rcheck Warnings: 0