Package: BiocFHIR Version: 1.10.0 Command: /Library/Frameworks/R.framework/Resources/bin/R CMD INSTALL BiocFHIR StartedAt: 2025-09-25 15:39:17 -0400 (Thu, 25 Sep 2025) EndedAt: 2025-09-25 15:39:24 -0400 (Thu, 25 Sep 2025) EllapsedTime: 7.0 seconds RetCode: 0 Status: OK