Package: BiocCheck Version: 1.44.2 Command: /Library/Frameworks/R.framework/Resources/bin/R CMD INSTALL BiocCheck StartedAt: 2025-10-13 15:24:56 -0400 (Mon, 13 Oct 2025) EndedAt: 2025-10-13 15:25:23 -0400 (Mon, 13 Oct 2025) EllapsedTime: 26.9 seconds RetCode: 0 Status: OK