Package: BiocBook Version: 1.8.0 Command: /Library/Frameworks/R.framework/Resources/bin/R CMD INSTALL BiocBook StartedAt: 2025-11-20 16:05:20 -0500 (Thu, 20 Nov 2025) EndedAt: 2025-11-20 16:05:35 -0500 (Thu, 20 Nov 2025) EllapsedTime: 15.7 seconds RetCode: 0 Status: OK