Package: BiocBook Version: 1.8.0 Command: rm -rf BiocBook.buildbin-libdir && mkdir BiocBook.buildbin-libdir && /Users/biocbuild/BBS/utils/build-universal.sh BiocBook_1.8.0.tar.gz /Library/Frameworks/R.framework/Resources/bin/R BiocBook.buildbin-libdir StartedAt: 2025-11-18 17:14:30 -0500 (Tue, 18 Nov 2025) EndedAt: 2025-11-18 17:14:46 -0500 (Tue, 18 Nov 2025) EllapsedTime: 16.2 seconds RetCode: 0 Status: OK PackageFile: BiocBook_1.8.0.tgz PackageFileSize: 1.028 MiB