Package: BiocBook Version: 1.8.0 Command: /Library/Frameworks/R.framework/Resources/bin/R CMD INSTALL BiocBook StartedAt: 2025-11-10 15:06:36 -0500 (Mon, 10 Nov 2025) EndedAt: 2025-11-10 15:06:39 -0500 (Mon, 10 Nov 2025) EllapsedTime: 3.1 seconds RetCode: 0 Status: OK